BEGIN:VCALENDAR
VERSION:2.0
PRODID:-//Inverness County Athletics Club - ECPv6.15.20//NONSGML v1.0//EN
CALSCALE:GREGORIAN
METHOD:PUBLISH
X-WR-CALNAME:Inverness County Athletics Club
X-ORIGINAL-URL:https://invernessathletics.ca
X-WR-CALDESC:Events for Inverness County Athletics Club
REFRESH-INTERVAL;VALUE=DURATION:PT1H
X-Robots-Tag:noindex
X-PUBLISHED-TTL:PT1H
BEGIN:VTIMEZONE
TZID:America/Halifax
BEGIN:DAYLIGHT
TZOFFSETFROM:-0400
TZOFFSETTO:-0300
TZNAME:ADT
DTSTART:20240310T060000
END:DAYLIGHT
BEGIN:STANDARD
TZOFFSETFROM:-0300
TZOFFSETTO:-0400
TZNAME:AST
DTSTART:20241103T050000
END:STANDARD
BEGIN:DAYLIGHT
TZOFFSETFROM:-0400
TZOFFSETTO:-0300
TZNAME:ADT
DTSTART:20250309T060000
END:DAYLIGHT
BEGIN:STANDARD
TZOFFSETFROM:-0300
TZOFFSETTO:-0400
TZNAME:AST
DTSTART:20251102T050000
END:STANDARD
BEGIN:DAYLIGHT
TZOFFSETFROM:-0400
TZOFFSETTO:-0300
TZNAME:ADT
DTSTART:20260308T060000
END:DAYLIGHT
BEGIN:STANDARD
TZOFFSETFROM:-0300
TZOFFSETTO:-0400
TZNAME:AST
DTSTART:20261101T050000
END:STANDARD
BEGIN:DAYLIGHT
TZOFFSETFROM:-0400
TZOFFSETTO:-0300
TZNAME:ADT
DTSTART:20270314T060000
END:DAYLIGHT
BEGIN:STANDARD
TZOFFSETFROM:-0300
TZOFFSETTO:-0400
TZNAME:AST
DTSTART:20271107T050000
END:STANDARD
END:VTIMEZONE
BEGIN:VEVENT
DTSTART;VALUE=DATE:20250705
DTEND;VALUE=DATE:20250707
DTSTAMP:20260420T033000
CREATED:20250508T163329Z
LAST-MODIFIED:20250605T190701Z
UID:42-1751673600-1751846399@invernessathletics.ca
SUMMARY:Athletics NS Canada Games and Legion Trials
DESCRIPTION:
URL:https://invernessathletics.ca/event/athletics-ns-canada-games-and-legion-trials/
LOCATION:Beazley Field\, 50 Caledonia Rd\, Dartmouth\, Nova Scotia\, Canada
END:VEVENT
BEGIN:VEVENT
DTSTART;VALUE=DATE:20250712
DTEND;VALUE=DATE:20250713
DTSTAMP:20260420T033000
CREATED:20250707T164611Z
LAST-MODIFIED:20250707T164611Z
UID:179-1752278400-1752364799@invernessathletics.ca
SUMMARY:Pace Athletics Sprints - Relays - Jumps Mini  Meet
DESCRIPTION:
URL:https://invernessathletics.ca/event/pace-athletics-sprints-relays-jumps-mini-meet/
LOCATION:Beazley Field\, 50 Caledonia Rd\, Dartmouth\, Nova Scotia\, Canada
END:VEVENT
BEGIN:VEVENT
DTSTART;TZID=America/Halifax:20250714T170000
DTEND;TZID=America/Halifax:20250714T200000
DTSTAMP:20260420T033000
CREATED:20250615T143154Z
LAST-MODIFIED:20250615T143210Z
UID:142-1752512400-1752523200@invernessathletics.ca
SUMMARY:Northern Nova Twilight Series #2
DESCRIPTION:
URL:https://invernessathletics.ca/event/northern-nova-twilight-series-2/
LOCATION:Pioneer Coal Athletics Field\, 483 Auburn Ave\, Stellarton\, NS\, Canada
END:VEVENT
BEGIN:VEVENT
DTSTART;VALUE=DATE:20250726
DTEND;VALUE=DATE:20250727
DTSTAMP:20260420T033000
CREATED:20250715T190835Z
LAST-MODIFIED:20250715T190835Z
UID:184-1753488000-1753574399@invernessathletics.ca
SUMMARY:Valley Athletics Track and Field Meet
DESCRIPTION:
URL:https://invernessathletics.ca/event/valley-athletics-track-and-field-meet/
LOCATION:Acadia University\, 550 Main St\, Wolfville\, Nova Scotia\, B4P2R6\, Canada
END:VEVENT
BEGIN:VEVENT
DTSTART;TZID=America/Halifax:20250804T170000
DTEND;TZID=America/Halifax:20250804T200000
DTSTAMP:20260420T033000
CREATED:20250615T143357Z
LAST-MODIFIED:20250615T143357Z
UID:145-1754326800-1754337600@invernessathletics.ca
SUMMARY:Northern Nova Twilight Series 3
DESCRIPTION:
URL:https://invernessathletics.ca/event/northern-nova-twilight-series-3/
LOCATION:Pioneer Coal Athletics Field\, 483 Auburn Ave\, Stellarton\, NS\, Canada
END:VEVENT
BEGIN:VEVENT
DTSTART;VALUE=DATE:20250808
DTEND;VALUE=DATE:20250811
DTSTAMP:20260420T033000
CREATED:20250508T163938Z
LAST-MODIFIED:20250508T163938Z
UID:49-1754611200-1754870399@invernessathletics.ca
SUMMARY:Legion National Championships
DESCRIPTION:
URL:https://invernessathletics.ca/event/legion-national-championships/
LOCATION:Calgary\, Alberta\, Canada
END:VEVENT
BEGIN:VEVENT
DTSTART;TZID=America/Halifax:20251121T180000
DTEND;TZID=America/Halifax:20251122T170000
DTSTAMP:20260420T033000
CREATED:20250910T210045Z
LAST-MODIFIED:20250924T131643Z
UID:207-1763748000-1763830800@invernessathletics.ca
SUMMARY:NS Indoor Last Chance
DESCRIPTION:
URL:https://invernessathletics.ca/event/athletics-ns-indoor-last-chance-meet/
LOCATION:Canada Games Centre\, 26 Thomas Raddall Dr\, Halifax\, Nova Scotia\, B3S 0E2\, Canada
END:VEVENT
BEGIN:VEVENT
DTSTART;VALUE=DATE:20251122
DTEND;VALUE=DATE:20251123
DTSTAMP:20260420T033000
CREATED:20250923T153002Z
LAST-MODIFIED:20250923T153018Z
UID:219-1763769600-1763855999@invernessathletics.ca
SUMMARY:Red & Black Open
DESCRIPTION:
URL:https://invernessathletics.ca/event/red-black-open/
LOCATION:Irving Oil Fieldhouse\, 129 McAllister Dr\, Fredricton\, NB\, E2J 2S7\, Canada
END:VEVENT
BEGIN:VEVENT
DTSTART;VALUE=DATE:20251220
DTEND;VALUE=DATE:20251221
DTSTAMP:20260420T033000
CREATED:20250923T153337Z
LAST-MODIFIED:20250929T141652Z
UID:223-1766188800-1766275199@invernessathletics.ca
SUMMARY:NB Indoor Last Chance
DESCRIPTION:
URL:https://invernessathletics.ca/event/anb-last-chance/
LOCATION:Universite de Moncton\, 18 Antonine-Maillet Ave\, Moncton\, NB\, E1A 3E9\, Canada
END:VEVENT
BEGIN:VEVENT
DTSTART;VALUE=DATE:20260110
DTEND;VALUE=DATE:20260111
DTSTAMP:20260420T033000
CREATED:20250929T141359Z
LAST-MODIFIED:20250929T141359Z
UID:241-1768003200-1768089599@invernessathletics.ca
SUMMARY:DCI Recontre Ouverte
DESCRIPTION:
URL:https://invernessathletics.ca/event/dci-recontre-ouverte/
LOCATION:Universite de Moncton\, 18 Antonine-Maillet Ave\, Moncton\, NB\, E1A 3E9\, Canada
END:VEVENT
BEGIN:VEVENT
DTSTART;TZID=America/Halifax:20260116T180000
DTEND;TZID=America/Halifax:20260117T170000
DTSTAMP:20260420T033000
CREATED:20250910T210155Z
LAST-MODIFIED:20250910T210155Z
UID:210-1768586400-1768669200@invernessathletics.ca
SUMMARY:Athletics NS Indoor Open
DESCRIPTION:
URL:https://invernessathletics.ca/event/athletics-ns-indoor-open/
LOCATION:Canada Games Centre\, 26 Thomas Raddall Dr\, Halifax\, Nova Scotia\, B3S 0E2\, Canada
END:VEVENT
BEGIN:VEVENT
DTSTART;VALUE=DATE:20260130
DTEND;VALUE=DATE:20260201
DTSTAMP:20260420T033001
CREATED:20250923T153441Z
LAST-MODIFIED:20250923T153441Z
UID:227-1769731200-1769903999@invernessathletics.ca
SUMMARY:Reds Invitational
DESCRIPTION:
URL:https://invernessathletics.ca/event/reds-invitational/
LOCATION:Irving Oil Fieldhouse\, 129 McAllister Dr\, Fredricton\, NB\, E2J 2S7\, Canada
END:VEVENT
BEGIN:VEVENT
DTSTART;VALUE=DATE:20260221
DTEND;VALUE=DATE:20260223
DTSTAMP:20260420T033001
CREATED:20250929T141838Z
LAST-MODIFIED:20250929T141838Z
UID:243-1771632000-1771804799@invernessathletics.ca
SUMMARY:Atlantic Indoor Championships
DESCRIPTION:
URL:https://invernessathletics.ca/event/atlantic-indoor-championships/
LOCATION:Universite de Moncton\, 18 Antonine-Maillet Ave\, Moncton\, NB\, E1A 3E9\, Canada
END:VEVENT
BEGIN:VEVENT
DTSTART;VALUE=DATE:20260228
DTEND;VALUE=DATE:20260301
DTSTAMP:20260420T033001
CREATED:20250910T210255Z
LAST-MODIFIED:20250910T210255Z
UID:212-1772236800-1772323199@invernessathletics.ca
SUMMARY:Athletics NS Indoor Club Championships
DESCRIPTION:
URL:https://invernessathletics.ca/event/athletics-ns-indoor-club-championships/
LOCATION:Canada Games Centre\, 26 Thomas Raddall Dr\, Halifax\, Nova Scotia\, B3S 0E2\, Canada
END:VEVENT
END:VCALENDAR