BEGIN:VCALENDAR
VERSION:2.0
PRODID:-//Inverness County Athletics Club - ECPv6.15.20//NONSGML v1.0//EN
CALSCALE:GREGORIAN
METHOD:PUBLISH
X-WR-CALNAME:Inverness County Athletics Club
X-ORIGINAL-URL:https://invernessathletics.ca
X-WR-CALDESC:Events for Inverness County Athletics Club
REFRESH-INTERVAL;VALUE=DURATION:PT1H
X-Robots-Tag:noindex
X-PUBLISHED-TTL:PT1H
BEGIN:VTIMEZONE
TZID:America/Halifax
BEGIN:DAYLIGHT
TZOFFSETFROM:-0400
TZOFFSETTO:-0300
TZNAME:ADT
DTSTART:20240310T060000
END:DAYLIGHT
BEGIN:STANDARD
TZOFFSETFROM:-0300
TZOFFSETTO:-0400
TZNAME:AST
DTSTART:20241103T050000
END:STANDARD
BEGIN:DAYLIGHT
TZOFFSETFROM:-0400
TZOFFSETTO:-0300
TZNAME:ADT
DTSTART:20250309T060000
END:DAYLIGHT
BEGIN:STANDARD
TZOFFSETFROM:-0300
TZOFFSETTO:-0400
TZNAME:AST
DTSTART:20251102T050000
END:STANDARD
BEGIN:DAYLIGHT
TZOFFSETFROM:-0400
TZOFFSETTO:-0300
TZNAME:ADT
DTSTART:20260308T060000
END:DAYLIGHT
BEGIN:STANDARD
TZOFFSETFROM:-0300
TZOFFSETTO:-0400
TZNAME:AST
DTSTART:20261101T050000
END:STANDARD
END:VTIMEZONE
BEGIN:VEVENT
DTSTART;VALUE=DATE:20250808
DTEND;VALUE=DATE:20250811
DTSTAMP:20260420T033311
CREATED:20250508T163938Z
LAST-MODIFIED:20250508T163938Z
UID:49-1754611200-1754870399@invernessathletics.ca
SUMMARY:Legion National Championships
DESCRIPTION:
URL:https://invernessathletics.ca/event/legion-national-championships/
LOCATION:Calgary\, Alberta\, Canada
END:VEVENT
BEGIN:VEVENT
DTSTART;TZID=America/Halifax:20250804T170000
DTEND;TZID=America/Halifax:20250804T200000
DTSTAMP:20260420T033311
CREATED:20250615T143357Z
LAST-MODIFIED:20250615T143357Z
UID:145-1754326800-1754337600@invernessathletics.ca
SUMMARY:Northern Nova Twilight Series 3
DESCRIPTION:
URL:https://invernessathletics.ca/event/northern-nova-twilight-series-3/
LOCATION:Pioneer Coal Athletics Field\, 483 Auburn Ave\, Stellarton\, NS\, Canada
END:VEVENT
BEGIN:VEVENT
DTSTART;VALUE=DATE:20250726
DTEND;VALUE=DATE:20250727
DTSTAMP:20260420T033311
CREATED:20250715T190835Z
LAST-MODIFIED:20250715T190835Z
UID:184-1753488000-1753574399@invernessathletics.ca
SUMMARY:Valley Athletics Track and Field Meet
DESCRIPTION:
URL:https://invernessathletics.ca/event/valley-athletics-track-and-field-meet/
LOCATION:Acadia University\, 550 Main St\, Wolfville\, Nova Scotia\, B4P2R6\, Canada
END:VEVENT
BEGIN:VEVENT
DTSTART;TZID=America/Halifax:20250714T170000
DTEND;TZID=America/Halifax:20250714T200000
DTSTAMP:20260420T033311
CREATED:20250615T143154Z
LAST-MODIFIED:20250615T143210Z
UID:142-1752512400-1752523200@invernessathletics.ca
SUMMARY:Northern Nova Twilight Series #2
DESCRIPTION:
URL:https://invernessathletics.ca/event/northern-nova-twilight-series-2/
LOCATION:Pioneer Coal Athletics Field\, 483 Auburn Ave\, Stellarton\, NS\, Canada
END:VEVENT
BEGIN:VEVENT
DTSTART;VALUE=DATE:20250712
DTEND;VALUE=DATE:20250713
DTSTAMP:20260420T033311
CREATED:20250707T164611Z
LAST-MODIFIED:20250707T164611Z
UID:179-1752278400-1752364799@invernessathletics.ca
SUMMARY:Pace Athletics Sprints - Relays - Jumps Mini  Meet
DESCRIPTION:
URL:https://invernessathletics.ca/event/pace-athletics-sprints-relays-jumps-mini-meet/
LOCATION:Beazley Field\, 50 Caledonia Rd\, Dartmouth\, Nova Scotia\, Canada
END:VEVENT
BEGIN:VEVENT
DTSTART;VALUE=DATE:20250705
DTEND;VALUE=DATE:20250707
DTSTAMP:20260420T033311
CREATED:20250508T163329Z
LAST-MODIFIED:20250605T190701Z
UID:42-1751673600-1751846399@invernessathletics.ca
SUMMARY:Athletics NS Canada Games and Legion Trials
DESCRIPTION:
URL:https://invernessathletics.ca/event/athletics-ns-canada-games-and-legion-trials/
LOCATION:Beazley Field\, 50 Caledonia Rd\, Dartmouth\, Nova Scotia\, Canada
END:VEVENT
BEGIN:VEVENT
DTSTART;TZID=America/Halifax:20250630T170000
DTEND;TZID=America/Halifax:20250630T200000
DTSTAMP:20260420T033311
CREATED:20250615T142816Z
LAST-MODIFIED:20250615T143233Z
UID:140-1751302800-1751313600@invernessathletics.ca
SUMMARY:Northern Nova Twilight Series 1
DESCRIPTION:
URL:https://invernessathletics.ca/event/northern-nova-twilight-series-1/
LOCATION:Pioneer Coal Athletics Field\, 483 Auburn Ave\, Stellarton\, NS\, Canada
END:VEVENT
BEGIN:VEVENT
DTSTART;VALUE=DATE:20250621
DTEND;VALUE=DATE:20250623
DTSTAMP:20260420T033311
CREATED:20250508T164226Z
LAST-MODIFIED:20250508T164226Z
UID:53-1750464000-1750636799@invernessathletics.ca
SUMMARY:Stivos Cup
DESCRIPTION:
URL:https://invernessathletics.ca/event/stivos-cup/
LOCATION:Medavie Stadium\, 30 Antonine-Maillet Ave\, Moncton\, New Brunswick\, Canada
END:VEVENT
BEGIN:VEVENT
DTSTART;VALUE=DATE:20250621
DTEND;VALUE=DATE:20250623
DTSTAMP:20260420T033311
CREATED:20250508T163133Z
LAST-MODIFIED:20250605T190536Z
UID:38-1750464000-1750636799@invernessathletics.ca
SUMMARY:Athletics Nova Scotia Outdoor Open
DESCRIPTION:
URL:https://invernessathletics.ca/event/athletics-nova-scotia-outdoor-open/
LOCATION:Pioneer Coal Athletics Field\, 483 Auburn Ave\, Stellarton\, NS\, Canada
END:VEVENT
BEGIN:VEVENT
DTSTART;VALUE=DATE:20250614
DTEND;VALUE=DATE:20250615
DTSTAMP:20260420T033311
CREATED:20250508T163627Z
LAST-MODIFIED:20250608T210206Z
UID:45-1749859200-1749945599@invernessathletics.ca
SUMMARY:Hub City Classic
DESCRIPTION:
URL:https://invernessathletics.ca/event/hub-city-classic/
LOCATION:Medavie Stadium\, 30 Antonine-Maillet Ave\, Moncton\, New Brunswick\, Canada
END:VEVENT
BEGIN:VEVENT
DTSTART;VALUE=DATE:20250530
DTEND;VALUE=DATE:20250601
DTSTAMP:20260420T033311
CREATED:20250508T162736Z
LAST-MODIFIED:20250508T162736Z
UID:35-1748563200-1748735999@invernessathletics.ca
SUMMARY:SSNS Provincial Championships
DESCRIPTION:
URL:https://invernessathletics.ca/event/ssns-provincial-championships/
LOCATION:Bridgetown Sports Hub\, 30 Faye Road\, Bridgetown\, Nova Scotia\, Canada
END:VEVENT
BEGIN:VEVENT
DTSTART;VALUE=DATE:20250523
DTEND;VALUE=DATE:20250525
DTSTAMP:20260420T033311
CREATED:20250508T162655Z
LAST-MODIFIED:20250508T162655Z
UID:33-1747958400-1748131199@invernessathletics.ca
SUMMARY:SSNS Highland Region Championships
DESCRIPTION:
URL:https://invernessathletics.ca/event/ssns-highland-region-championships/
LOCATION:Cape Breton Health and Recreation Complex\, 1250 Grand Lake Road\, Sydney\, Nova Scotia\, Canada
END:VEVENT
BEGIN:VEVENT
DTSTART;VALUE=DATE:20250515
DTEND;VALUE=DATE:20250516
DTSTAMP:20260420T033311
CREATED:20250508T162147Z
LAST-MODIFIED:20250508T162147Z
UID:30-1747267200-1747353599@invernessathletics.ca
SUMMARY:SSNS Inverness Richmond District Track & Field Championships 2025
DESCRIPTION:
URL:https://invernessathletics.ca/event/ssns-inverness-richmond-district-track-field-championships-2025/
LOCATION:Dalbrae Academy\, 11156 Route 19\, Southwest Mabou\, Nova Scotia\, Canada
END:VEVENT
END:VCALENDAR